BEGIN:VCALENDAR
VERSION:2.0
PRODID:-//ChamberMaster//Event Calendar 2.0//EN
METHOD:PUBLISH
X-PUBLISHED-TTL:P3D
REFRESH-INTERVAL:P3D
CALSCALE:GREGORIAN
BEGIN:VEVENT
DTSTART:20120417T213000Z
DTEND:20120417T040000Z
X-MICROSOFT-CDO-ALLDAYEVENT:FALSE
SUMMARY:Foundation Wine Tasting and Pairing
DESCRIPTION:
X-ALT-DESC;FMTTYPE=text/html:
LOCATION:Air Base Bistro
UID:e.9593.337
SEQUENCE:3
DTSTAMP:20260419T185556Z
URL:http://pcbafl.memberzone.com/events/details/foundation-wine-tasting-and-pairing-04-17-2012-337
END:VEVENT

END:VCALENDAR
