BEGIN:VCALENDAR
VERSION:2.0
PRODID:-//ChamberMaster//Event Calendar 2.0//EN
METHOD:PUBLISH
X-PUBLISHED-TTL:P3D
REFRESH-INTERVAL:P3D
CALSCALE:GREGORIAN
BEGIN:VEVENT
DTSTART:20120828T213000Z
DTEND:20120828T040000Z
X-MICROSOFT-CDO-ALLDAYEVENT:FALSE
SUMMARY:Gift Basket Bonanza
DESCRIPTION:
X-ALT-DESC;FMTTYPE=text/html:
LOCATION:Auburndale Civic Center
UID:e.9593.354
SEQUENCE:3
DTSTAMP:20260419T121259Z
URL:http://pcbafl.memberzone.com/events/details/gift-basket-bonanza-08-28-2012-354
END:VEVENT

END:VCALENDAR
